BEGIN:VCALENDAR
VERSION:2.0
PRODID:-//Triora Experience - ECPv6.10.2//NONSGML v1.0//EN
CALSCALE:GREGORIAN
METHOD:PUBLISH
X-WR-CALNAME:Triora Experience
X-ORIGINAL-URL:https://trioraexperience.it
X-WR-CALDESC:Eventi per Triora Experience
REFRESH-INTERVAL;VALUE=DURATION:PT1H
X-Robots-Tag:noindex
X-PUBLISHED-TTL:PT1H
BEGIN:VTIMEZONE
TZID:Europe/Rome
BEGIN:DAYLIGHT
TZOFFSETFROM:+0100
TZOFFSETTO:+0200
TZNAME:CEST
DTSTART:20250330T010000
END:DAYLIGHT
BEGIN:STANDARD
TZOFFSETFROM:+0200
TZOFFSETTO:+0100
TZNAME:CET
DTSTART:20251026T010000
END:STANDARD
END:VTIMEZONE
BEGIN:VEVENT
DTSTART;TZID=Europe/Rome:20250927T210000
DTEND;TZID=Europe/Rome:20250927T230000
DTSTAMP:20260421T121002
CREATED:20250922T073656Z
LAST-MODIFIED:20250922T074251Z
UID:659-1759006800-1759014000@trioraexperience.it
SUMMARY:MUSICA NEI BORGHI 2025 con l'Orchestra Sinfonica di Sanremo
DESCRIPTION:  \n \n  \n\n𝗠𝘂𝘀𝗶𝗰𝗮 𝗻𝗲𝗶 𝗕𝗼𝗿𝗴𝗵𝗶 𝗰𝗼𝗻 𝗹’𝗢𝗿𝗰𝗵𝗲𝘀𝘁𝗿𝗮 𝗦𝗶𝗻𝗳𝗼𝗻𝗶𝗰𝗮 𝗱𝗶 𝗦𝗮𝗻𝗿𝗲𝗺𝗼\nSabato 27 settembre alle ore 21:00 una serata speciale a Triora con il concerto dell’Orchestra Sinfonica di Sanremo  \, diretta da Ernesto Colombo\, con il clarinetto di Leandro Fanelli: un appuntamento da non perdere\, nella preziosa cornice della Collegiata di Nostra Signora Assunta. L’evento è organizzato dal Parco delle Alpi Liguri\, in collaborazione con il Comune di Triora.\n\n\n Per l’occasione è attivo un servizio di bus navetta gratuito\, con partenza alle 19:30 presso la Stazione Ferroviaria di Sanremo e alle ore 19:50 presso la Stazione Ferroviaria di Taggia.\n\n\nL’evento è ad ingresso libero\, fino ad esaurimento posti.
URL:https://trioraexperience.it/event/musica-nei-borghi-2025-con-lorchestra-sinfonica-di-sanremo/
CATEGORIES:Eventi
ATTACH;FMTTYPE=image/jpeg:https://trioraexperience.it/wp-content/uploads/2025/09/548440869_1244200867746319_5940667379722982184_n.jpg
END:VEVENT
END:VCALENDAR