BEGIN:VCALENDAR
VERSION:2.0
PRODID:-//Triora Experience - ECPv6.10.2//NONSGML v1.0//EN
CALSCALE:GREGORIAN
METHOD:PUBLISH
X-ORIGINAL-URL:https://trioraexperience.it
X-WR-CALDESC:Eventi per Triora Experience
REFRESH-INTERVAL;VALUE=DURATION:PT1H
X-Robots-Tag:noindex
X-PUBLISHED-TTL:PT1H
BEGIN:VTIMEZONE
TZID:Europe/Rome
BEGIN:DAYLIGHT
TZOFFSETFROM:+0100
TZOFFSETTO:+0200
TZNAME:CEST
DTSTART:20250330T010000
END:DAYLIGHT
BEGIN:STANDARD
TZOFFSETFROM:+0200
TZOFFSETTO:+0100
TZNAME:CET
DTSTART:20251026T010000
END:STANDARD
END:VTIMEZONE
BEGIN:VEVENT
DTSTART;TZID=Europe/Rome:20250803T110000
DTEND;TZID=Europe/Rome:20250803T170000
DTSTAMP:20260421T150302
CREATED:20250513T073052Z
LAST-MODIFIED:20250719T080119Z
UID:524-1754218800-1754240400@trioraexperience.it
SUMMARY:Festa del Redentore sul Monte Saccarello
DESCRIPTION:DOM 3 Festa del Redentore sul Monte Saccarello\, dalle ore 11.00
URL:https://trioraexperience.it/event/festa-del-redentore-sul-monte-saccarello/
CATEGORIES:Eventi
ATTACH;FMTTYPE=image/jpeg:https://trioraexperience.it/wp-content/uploads/2025/05/IMG_8786.jpg
END:VEVENT
BEGIN:VEVENT
DTSTART;TZID=Europe/Rome:20250803T210000
DTEND;TZID=Europe/Rome:20250803T230000
DTSTAMP:20260421T150302
CREATED:20250513T073149Z
LAST-MODIFIED:20250718T122925Z
UID:526-1754254800-1754262000@trioraexperience.it
SUMMARY:“Stregati dalle stelle” Osservazioni astronomiche guidate
DESCRIPTION:DOM 3 TRIORA \nore 21.00 Muso Civico di Triora “Stregati dalle stelle” Osservazioni astronomiche guidate in collaborazione con Associazione Stellaria
URL:https://trioraexperience.it/event/stregati-dalle-stelle-osservazioni-astronomiche-guidate/
CATEGORIES:Eventi
ATTACH;FMTTYPE=image/jpeg:https://trioraexperience.it/wp-content/uploads/2025/05/PHOTO-2025-07-18-09-39-34.jpg
END:VEVENT
END:VCALENDAR