BEGIN:VCALENDAR
VERSION:2.0
PRODID:-//Triora Experience - ECPv6.10.2//NONSGML v1.0//EN
CALSCALE:GREGORIAN
METHOD:PUBLISH
X-ORIGINAL-URL:https://trioraexperience.it
X-WR-CALDESC:Eventi per Triora Experience
REFRESH-INTERVAL;VALUE=DURATION:PT1H
X-Robots-Tag:noindex
X-PUBLISHED-TTL:PT1H
BEGIN:VTIMEZONE
TZID:Europe/Rome
BEGIN:DAYLIGHT
TZOFFSETFROM:+0100
TZOFFSETTO:+0200
TZNAME:CEST
DTSTART:20250330T010000
END:DAYLIGHT
BEGIN:STANDARD
TZOFFSETFROM:+0200
TZOFFSETTO:+0100
TZNAME:CET
DTSTART:20251026T010000
END:STANDARD
END:VTIMEZONE
BEGIN:VEVENT
DTSTART;TZID=Europe/Rome:20250815T140000
DTEND;TZID=Europe/Rome:20250815T223000
DTSTAMP:20260421T134958
CREATED:20250513T073724Z
LAST-MODIFIED:20250513T073724Z
UID:536-1755266400-1755297000@trioraexperience.it
SUMMARY:Torneo di Bocce Quadre
DESCRIPTION:VEN 15  Realdo \ndalle ore 14.00 Torneo di Bocce Quadre
URL:https://trioraexperience.it/event/torneo-di-bocce-quadre/
CATEGORIES:Eventi
ATTACH;FMTTYPE=image/jpeg:https://trioraexperience.it/wp-content/uploads/2025/05/Triora_eventi_1920X1080_V2-scaled.jpeg
END:VEVENT
END:VCALENDAR