BEGIN:VCALENDAR
VERSION:2.0
PRODID:-//Triora Experience - ECPv6.10.2//NONSGML v1.0//EN
CALSCALE:GREGORIAN
METHOD:PUBLISH
X-ORIGINAL-URL:https://trioraexperience.it
X-WR-CALDESC:Eventi per Triora Experience
REFRESH-INTERVAL;VALUE=DURATION:PT1H
X-Robots-Tag:noindex
X-PUBLISHED-TTL:PT1H
BEGIN:VTIMEZONE
TZID:Europe/Rome
BEGIN:DAYLIGHT
TZOFFSETFROM:+0100
TZOFFSETTO:+0200
TZNAME:CEST
DTSTART:20250330T010000
END:DAYLIGHT
BEGIN:STANDARD
TZOFFSETFROM:+0200
TZOFFSETTO:+0100
TZNAME:CET
DTSTART:20251026T010000
END:STANDARD
END:VTIMEZONE
BEGIN:VEVENT
DTSTART;TZID=Europe/Rome:20250614T080000
DTEND;TZID=Europe/Rome:20250615T193000
DTSTAMP:20260423T120835
CREATED:20250516T135042Z
LAST-MODIFIED:20250516T135042Z
UID:606-1749888000-1750015800@trioraexperience.it
SUMMARY:FESTIVALLE - VALLE ARGENTINA OUTDOOR FESTIVAL
DESCRIPTION:Una festa che concilia sport\, divertimento\, cultura e cura del territorio in Alta Valle Argentina. Per un weekend\, il campo sportivo di Molini di Triora si trasforma nel Villaggio del FESTIVALLE\, un universo parallelo pieno di attività da scoprire e in cui farsi coinvolgere per vivere a 360° il meraviglioso mondo dell’Outdoor in Valle! \nDa chi è in cerca di adrenalina\, a chi vuole passare una giornata condividendo la passione per la natura\, tutti possono trovare la loro dimensione al FESTIVALLE. Consulta il programma per saperne di più! \nSCOPRI IL PROGRAMMA \n 
URL:https://trioraexperience.it/event/festivalle-valle-argentina-outdoor-festival/
CATEGORIES:Eventi
ATTACH;FMTTYPE=image/png:https://trioraexperience.it/wp-content/uploads/2025/05/Screenshot-2025-05-16-alle-15.50.17.png
END:VEVENT
BEGIN:VEVENT
DTSTART;TZID=Europe/Rome:20250614T100000
DTEND;TZID=Europe/Rome:20250615T190000
DTSTAMP:20260423T120835
CREATED:20250512T085320Z
LAST-MODIFIED:20250512T085320Z
UID:490-1749895200-1750014000@trioraexperience.it
SUMMARY:Seminario di falconeria e guferia 
DESCRIPTION:SAB 14 e DOM 15 TRIORA in Zona Boschetto \ndalle 10.00 alle 19.00 Seminario di falconeria e guferia \ncon Associazione Terra di confine
URL:https://trioraexperience.it/event/seminario-di-falconeria-e-guferia/
CATEGORIES:Eventi
ATTACH;FMTTYPE=image/jpeg:https://trioraexperience.it/wp-content/uploads/2025/05/Triora_eventi_1920X1080_V2-scaled.jpeg
END:VEVENT
BEGIN:VEVENT
DTSTART;TZID=Europe/Rome:20250621T090000
DTEND;TZID=Europe/Rome:20250622T180000
DTSTAMP:20260423T120835
CREATED:20250512T091407Z
LAST-MODIFIED:20250512T091407Z
UID:494-1750496400-1750615200@trioraexperience.it
SUMMARY:Ritorno alle radici: Sorellanza\, erbe e magia nel borgo delle streghe\, Retreat di Empowerment femminile con Laura Cianci e Raffaella Rognoni
DESCRIPTION:SAB 21 e DOM 22 TRIORA\, Museo Civico \nRitorno alle radici: Sorellanza\, erbe e magia nel borgo delle streghe\, \nRetreat di Empowerment femminile con Laura Cianci e Raffaella Rognoni coach professioniste\, per info: laura@funnelcoaching.it
URL:https://trioraexperience.it/event/ritorno-alle-radici-sorellanza-erbe-e-magia-nel-borgo-delle-streghe-retreat-di-empowerment-femminile-con-laura-cianci-e-raffaella-rognoni/
CATEGORIES:Eventi
ATTACH;FMTTYPE=image/jpeg:https://trioraexperience.it/wp-content/uploads/2025/05/Triora_eventi_1920X1080_V2-scaled.jpeg
END:VEVENT
BEGIN:VEVENT
DTSTART;TZID=Europe/Rome:20250621T170000
DTEND;TZID=Europe/Rome:20250621T230000
DTSTAMP:20260423T120835
CREATED:20250512T085509Z
LAST-MODIFIED:20250512T085509Z
UID:492-1750525200-1750546800@trioraexperience.it
SUMMARY:Notte Romantica nei Borghi più Belli d’Italia - Laboratorio “Il solstizio estivo e i riti di fuoco e acqua” - Autunnonero Ghost Tour Triora
DESCRIPTION:SAB 21 Triora Notte Romantica nei Borghi più Belli d’Italia \nEvento al Museo Civico di Triora in collaborazione con Autunnonero: \nore 17.00\, Laboratorio “Il solstizio estivo e i riti di fuoco e acqua” \na cura di Sibilla Pinocchio \nore 22.00 Autunnonero Ghost Tour Triora
URL:https://trioraexperience.it/event/notte-romantica-nei-borghi-piu-belli-ditalia-laboratorio-il-solstizio-estivo-e-i-riti-di-fuoco-e-acqua-autunnonero-ghost-tour-triora/
CATEGORIES:Eventi
ATTACH;FMTTYPE=image/jpeg:https://trioraexperience.it/wp-content/uploads/2025/05/Triora_eventi_1920X1080_V2-scaled.jpeg
END:VEVENT
BEGIN:VEVENT
DTSTART;TZID=Europe/Rome:20250624T100000
DTEND;TZID=Europe/Rome:20250624T200000
DTSTAMP:20260423T120835
CREATED:20250512T092613Z
LAST-MODIFIED:20250512T092613Z
UID:502-1750759200-1750795200@trioraexperience.it
SUMMARY:Celebrazione di San Giovanni dei Prati
DESCRIPTION:MAR 24 Località san Giovanni dei Prati \ndalle ore 10.00 Celebrazione di San Giovanni dei Prati
URL:https://trioraexperience.it/event/celebrazione-di-san-giovanni-dei-prati/
CATEGORIES:Eventi
ATTACH;FMTTYPE=image/jpeg:https://trioraexperience.it/wp-content/uploads/2025/05/Triora_eventi_1920X1080_V2-scaled.jpeg
END:VEVENT
BEGIN:VEVENT
DTSTART;TZID=Europe/Rome:20250627T210000
DTEND;TZID=Europe/Rome:20250627T230000
DTSTAMP:20260423T120835
CREATED:20250512T092657Z
LAST-MODIFIED:20250512T092657Z
UID:504-1751058000-1751065200@trioraexperience.it
SUMMARY:“Stregati dalle stelle” Osservazioni astronomiche guidate in collaborazione con Ass. Stellaria
DESCRIPTION:VEN 27 TRIORA\, Museo Civico \nore 21.00 “Stregati dalle stelle” Osservazioni astronomiche guidate in collaborazione con Ass. Stellaria
URL:https://trioraexperience.it/event/stregati-dalle-stelle-osservazioni-astronomiche-guidate-in-collaborazione-con-ass-stellaria/
CATEGORIES:Eventi
ATTACH;FMTTYPE=image/jpeg:https://trioraexperience.it/wp-content/uploads/2025/05/Triora_eventi_1920X1080_V2-scaled.jpeg
END:VEVENT
END:VCALENDAR