BEGIN:VCALENDAR
VERSION:2.0
PRODID:-//Triora Experience - ECPv6.10.2//NONSGML v1.0//EN
CALSCALE:GREGORIAN
METHOD:PUBLISH
X-WR-CALNAME:Triora Experience
X-ORIGINAL-URL:https://trioraexperience.it
X-WR-CALDESC:Eventi per Triora Experience
REFRESH-INTERVAL;VALUE=DURATION:PT1H
X-Robots-Tag:noindex
X-PUBLISHED-TTL:PT1H
BEGIN:VTIMEZONE
TZID:Europe/Rome
BEGIN:DAYLIGHT
TZOFFSETFROM:+0100
TZOFFSETTO:+0200
TZNAME:CEST
DTSTART:20250330T010000
END:DAYLIGHT
BEGIN:STANDARD
TZOFFSETFROM:+0200
TZOFFSETTO:+0100
TZNAME:CET
DTSTART:20251026T010000
END:STANDARD
END:VTIMEZONE
BEGIN:VEVENT
DTSTART;TZID=Europe/Rome:20250706T103000
DTEND;TZID=Europe/Rome:20250706T170000
DTSTAMP:20260421T161607
CREATED:20250512T092858Z
LAST-MODIFIED:20250512T092858Z
UID:506-1751797800-1751821200@trioraexperience.it
SUMMARY:Processione Madonna della Misericordia e concerto bandistico
DESCRIPTION:DOM 6 Triora\, Piazza Tommaso Reggio \ndalle ore 10.30 Processione Madonna della Misericordia e concerto bandistico nel pomeriggio
URL:https://trioraexperience.it/event/processione-madonna-della-misericordia-e-concerto-bandistico/
CATEGORIES:Eventi
ATTACH;FMTTYPE=image/jpeg:https://trioraexperience.it/wp-content/uploads/2025/05/Triora_eventi_1920X1080_V2-scaled.jpeg
END:VEVENT
BEGIN:VEVENT
DTSTART;TZID=Europe/Rome:20250712T090000
DTEND;TZID=Europe/Rome:20250713T170000
DTSTAMP:20260421T161607
CREATED:20250512T093044Z
LAST-MODIFIED:20250512T093044Z
UID:508-1752310800-1752426000@trioraexperience.it
SUMMARY:Passeggiata wild con i rapaci dell’Associazione Terra di Confine nei boschi di Triora
DESCRIPTION:SAB 12 e DOM 13 TRIORA in Zona Boschetto \nRitrovo ore 9.00 Triora per registrazione e passeggiata wild con i rapaci dell’Associazione Terra di Confine nei boschi di Triora
URL:https://trioraexperience.it/event/passeggiata-wild-con-i-rapaci-dellassociazione-terra-di-confine-nei-boschi-di-triora/
CATEGORIES:Eventi
ATTACH;FMTTYPE=image/jpeg:https://trioraexperience.it/wp-content/uploads/2025/05/Triora_eventi_1920X1080_V2-scaled.jpeg
END:VEVENT
BEGIN:VEVENT
DTSTART;TZID=Europe/Rome:20250712T140000
DTEND;TZID=Europe/Rome:20250712T233000
DTSTAMP:20260421T161607
CREATED:20250512T093547Z
LAST-MODIFIED:20250512T093547Z
UID:514-1752328800-1752363000@trioraexperience.it
SUMMARY: Festival dei Boscaioli
DESCRIPTION:SAB 12 Verdeggia \ndalle ore 14.00\, Festival dei Boscaioli\, dalle ore 19.00 serata danzante e gastronomica (disponibile bus navetta)
URL:https://trioraexperience.it/event/festival-dei-boscaioli/
CATEGORIES:Eventi
ATTACH;FMTTYPE=image/jpeg:https://trioraexperience.it/wp-content/uploads/2025/05/Triora_eventi_1920X1080_V2-scaled.jpeg
END:VEVENT
BEGIN:VEVENT
DTSTART;TZID=Europe/Rome:20250712T220000
DTEND;TZID=Europe/Rome:20250712T230000
DTSTAMP:20260421T161607
CREATED:20250512T093407Z
LAST-MODIFIED:20250512T093451Z
UID:510-1752357600-1752361200@trioraexperience.it
SUMMARY:Autunnonero Ghost Tour Triora
DESCRIPTION:SAB 12 Triora \nore 22.00 Autunnonero Ghost Tour Triora \nSu prenotazione\, info www.autunnonero.com – info@autunnonero.com – 3471402685
URL:https://trioraexperience.it/event/510/
CATEGORIES:Eventi
ATTACH;FMTTYPE=image/jpeg:https://trioraexperience.it/wp-content/uploads/2025/05/Triora_eventi_1920X1080_V2-scaled.jpeg
END:VEVENT
BEGIN:VEVENT
DTSTART;TZID=Europe/Rome:20250719T210000
DTEND;TZID=Europe/Rome:20250719T230000
DTSTAMP:20260421T161607
CREATED:20250716T124704Z
LAST-MODIFIED:20250716T124704Z
UID:626-1752958800-1752966000@trioraexperience.it
SUMMARY:Concerto d'estate
DESCRIPTION:Sabato 19 luglio\, a partire dalle ore 21.00\, vi aspettiamo nella suggestiva piazza Beato Tommaso Reggio per il “Concerto d’Estate” a cura della Società Filarmonica Favriese APS.\n\n\n\nUn emozionante viaggio musicale sotto le stelle\, tra celebri colonne sonore e grandi classici intramontabili.\n\n\nVoce solista: Beatrice Demarie. Direzione artistica: M° Alberto Pecchenino\n\n\n\n Ingresso libero\n\n\n\nUn appuntamento imperdibile per vivere insieme la magia della musica nel cuore di Triora.
URL:https://trioraexperience.it/event/concerto-destate/
CATEGORIES:Eventi
ATTACH;FMTTYPE=image/jpeg:https://trioraexperience.it/wp-content/uploads/2025/05/PHOTO-2025-07-16-08-05-26.jpg
END:VEVENT
BEGIN:VEVENT
DTSTART;TZID=Europe/Rome:20250720T110000
DTEND;TZID=Europe/Rome:20250720T190000
DTSTAMP:20260421T161607
CREATED:20250702T085419Z
LAST-MODIFIED:20250702T085419Z
UID:617-1753009200-1753038000@trioraexperience.it
SUMMARY:Triora Bimbi
DESCRIPTION:Triora Bimbi 2025 – Una giornata dedicata ai più piccoli\nData: Domenica 20 luglio 2025Orario: Dalle ore 11.00 alle 19.00Luogo: Parco Giochi\, Triora (IM)Ingresso libero \nIl Comune di Triora\, in collaborazione con Triora Promotion\, organizza una giornata interamente dedicata ai bambini\, con attività pensate per ogni fascia d’età e spazi attrezzati per il gioco\, la creatività e il divertimento. \nProgramma\nArea 0-3 anniSpazio pensato per i più piccoli\, con tre gonfiabili\, animali cavalcabili\, palline e ombrelloni per garantire il gioco in sicurezza e aree d’ombra. \nArea 4+ anniGonfiabili di grandi e medie dimensioni\, oltre a un bersaglio gonfiabile per giochi con la palla e attività dinamiche. \nArea “fresca”Scivolo acquatico con piscina e cannoni spara-acqua\, completati da un tappeto di sei metri per il gioco e il rinfresco nelle ore più calde. \nArea “arte”Sotto un gazebo verranno predisposti tavolini e sedute\, con materiali creativi come colori\, fogli da disegno e stampe per stimolare la fantasia dei bambini. \nUn servizio ristoro sarà disponibile per tutta la durata dell’evento. \nPer ulteriori informazioni\, si invita a seguire gli aggiornamenti attraverso i canali ufficiali del Comune di Triora e Triora Promotion.
URL:https://trioraexperience.it/event/triora-bimbi/
CATEGORIES:Eventi
ATTACH;FMTTYPE=image/jpeg:https://trioraexperience.it/wp-content/uploads/2025/07/TRIORA-BIMBI-post-IG.jpg
END:VEVENT
BEGIN:VEVENT
DTSTART;TZID=Europe/Rome:20250726T190000
DTEND;TZID=Europe/Rome:20250726T233000
DTSTAMP:20260421T161607
CREATED:20250512T094502Z
LAST-MODIFIED:20250512T094502Z
UID:520-1753556400-1753572600@trioraexperience.it
SUMMARY:Serata gastronomica e musicale con i Ciansunier
DESCRIPTION:SAB 26  Verdeggia \ndalle ore 19.00 Serata gastronomica e musicale con i Ciansunier (bus navetta)
URL:https://trioraexperience.it/event/serata-gastronomica-e-musicale-con-i-ciansunier/
CATEGORIES:Eventi
ATTACH;FMTTYPE=image/jpeg:https://trioraexperience.it/wp-content/uploads/2025/05/Triora_eventi_1920X1080_V2-scaled.jpeg
END:VEVENT
BEGIN:VEVENT
DTSTART;TZID=Europe/Rome:20250726T220000
DTEND;TZID=Europe/Rome:20250726T233000
DTSTAMP:20260421T161607
CREATED:20250512T094408Z
LAST-MODIFIED:20250512T094408Z
UID:518-1753567200-1753572600@trioraexperience.it
SUMMARY:Autunnonero Ghost Tour Triora
DESCRIPTION:SAB 26  Triora \nore 22.00 Autunnonero Ghost Tour Triora \nSu prenotazione\, info www.autunnonero.com – info@autunnonero.com – 3471402685
URL:https://trioraexperience.it/event/autunnonero-ghost-tour-triora/
CATEGORIES:Eventi
ATTACH;FMTTYPE=image/jpeg:https://trioraexperience.it/wp-content/uploads/2025/05/Triora_eventi_1920X1080_V2-scaled.jpeg
END:VEVENT
END:VCALENDAR